BEGIN:VCALENDAR
VERSION:2.0
PRODID:-//ForestView Church - ECPv6.15.20//NONSGML v1.0//EN
CALSCALE:GREGORIAN
METHOD:PUBLISH
X-WR-CALNAME:ForestView Church
X-ORIGINAL-URL:https://forestview.church
X-WR-CALDESC:Events for ForestView Church
REFRESH-INTERVAL;VALUE=DURATION:PT1H
X-Robots-Tag:noindex
X-PUBLISHED-TTL:PT1H
BEGIN:VTIMEZONE
TZID:America/Chicago
BEGIN:DAYLIGHT
TZOFFSETFROM:-0600
TZOFFSETTO:-0500
TZNAME:CDT
DTSTART:20250309T080000
END:DAYLIGHT
BEGIN:STANDARD
TZOFFSETFROM:-0500
TZOFFSETTO:-0600
TZNAME:CST
DTSTART:20251102T070000
END:STANDARD
BEGIN:DAYLIGHT
TZOFFSETFROM:-0600
TZOFFSETTO:-0500
TZNAME:CDT
DTSTART:20260308T080000
END:DAYLIGHT
BEGIN:STANDARD
TZOFFSETFROM:-0500
TZOFFSETTO:-0600
TZNAME:CST
DTSTART:20261101T070000
END:STANDARD
BEGIN:DAYLIGHT
TZOFFSETFROM:-0600
TZOFFSETTO:-0500
TZNAME:CDT
DTSTART:20270314T080000
END:DAYLIGHT
BEGIN:STANDARD
TZOFFSETFROM:-0500
TZOFFSETTO:-0600
TZNAME:CST
DTSTART:20271107T070000
END:STANDARD
END:VTIMEZONE
BEGIN:VEVENT
DTSTART;TZID=America/Chicago:20261206T100000
DTEND;TZID=America/Chicago:20261206T110000
DTSTAMP:20260423T202744
CREATED:20250619T090317Z
LAST-MODIFIED:20250729T163617Z
UID:1149-1796551200-1796554800@forestview.church
SUMMARY:Sunday Service
DESCRIPTION:You’re invited to join us for our regular Sunday worship service.
URL:https://forestview.church/event/sunday-service-20261206/
LOCATION:ForestView Church @ Brabham Middle School\, 10000 FM830\, Willis\, TX\, 77318\, United States
CATEGORIES:Worship
END:VEVENT
BEGIN:VEVENT
DTSTART;TZID=America/Chicago:20261213T100000
DTEND;TZID=America/Chicago:20261213T110000
DTSTAMP:20260423T202744
CREATED:20250619T090332Z
LAST-MODIFIED:20250729T163616Z
UID:1150-1797156000-1797159600@forestview.church
SUMMARY:Sunday Service
DESCRIPTION:You’re invited to join us for our regular Sunday worship service.
URL:https://forestview.church/event/sunday-service-20261213/
LOCATION:ForestView Church @ Brabham Middle School\, 10000 FM830\, Willis\, TX\, 77318\, United States
CATEGORIES:Worship
END:VEVENT
BEGIN:VEVENT
DTSTART;TZID=America/Chicago:20261220T100000
DTEND;TZID=America/Chicago:20261220T110000
DTSTAMP:20260423T202744
CREATED:20250619T090332Z
LAST-MODIFIED:20250729T163616Z
UID:1151-1797760800-1797764400@forestview.church
SUMMARY:Sunday Service
DESCRIPTION:You’re invited to join us for our regular Sunday worship service.
URL:https://forestview.church/event/sunday-service-20261220/
LOCATION:ForestView Church @ Brabham Middle School\, 10000 FM830\, Willis\, TX\, 77318\, United States
CATEGORIES:Worship
END:VEVENT
BEGIN:VEVENT
DTSTART;TZID=America/Chicago:20261227T100000
DTEND;TZID=America/Chicago:20261227T110000
DTSTAMP:20260423T202744
CREATED:20250619T090332Z
LAST-MODIFIED:20250729T163615Z
UID:1152-1798365600-1798369200@forestview.church
SUMMARY:Sunday Service
DESCRIPTION:You’re invited to join us for our regular Sunday worship service.
URL:https://forestview.church/event/sunday-service-20261227/
LOCATION:ForestView Church @ Brabham Middle School\, 10000 FM830\, Willis\, TX\, 77318\, United States
CATEGORIES:Worship
END:VEVENT
END:VCALENDAR