BEGIN:VCALENDAR
VERSION:2.0
PRODID:-//ForestView Church - ECPv6.15.20//NONSGML v1.0//EN
CALSCALE:GREGORIAN
METHOD:PUBLISH
X-ORIGINAL-URL:https://forestview.church
X-WR-CALDESC:Events for ForestView Church
REFRESH-INTERVAL;VALUE=DURATION:PT1H
X-Robots-Tag:noindex
X-PUBLISHED-TTL:PT1H
BEGIN:VTIMEZONE
TZID:America/Chicago
BEGIN:DAYLIGHT
TZOFFSETFROM:-0600
TZOFFSETTO:-0500
TZNAME:CDT
DTSTART:20250309T080000
END:DAYLIGHT
BEGIN:STANDARD
TZOFFSETFROM:-0500
TZOFFSETTO:-0600
TZNAME:CST
DTSTART:20251102T070000
END:STANDARD
BEGIN:DAYLIGHT
TZOFFSETFROM:-0600
TZOFFSETTO:-0500
TZNAME:CDT
DTSTART:20260308T080000
END:DAYLIGHT
BEGIN:STANDARD
TZOFFSETFROM:-0500
TZOFFSETTO:-0600
TZNAME:CST
DTSTART:20261101T070000
END:STANDARD
BEGIN:DAYLIGHT
TZOFFSETFROM:-0600
TZOFFSETTO:-0500
TZNAME:CDT
DTSTART:20270314T080000
END:DAYLIGHT
BEGIN:STANDARD
TZOFFSETFROM:-0500
TZOFFSETTO:-0600
TZNAME:CST
DTSTART:20271107T070000
END:STANDARD
END:VTIMEZONE
BEGIN:VEVENT
DTSTART;TZID=America/Chicago:20261101T100000
DTEND;TZID=America/Chicago:20261101T110000
DTSTAMP:20260423T190726
CREATED:20250619T090302Z
LAST-MODIFIED:20250729T163618Z
UID:1144-1793527200-1793530800@forestview.church
SUMMARY:Sunday Service
DESCRIPTION:You’re invited to join us for our regular Sunday worship service.
URL:https://forestview.church/event/sunday-service-20261101/
LOCATION:ForestView Church @ Brabham Middle School\, 10000 FM830\, Willis\, TX\, 77318\, United States
CATEGORIES:Worship
END:VEVENT
BEGIN:VEVENT
DTSTART;TZID=America/Chicago:20261108T100000
DTEND;TZID=America/Chicago:20261108T110000
DTSTAMP:20260423T190726
CREATED:20250619T090317Z
LAST-MODIFIED:20250729T163618Z
UID:1145-1794132000-1794135600@forestview.church
SUMMARY:Sunday Service
DESCRIPTION:You’re invited to join us for our regular Sunday worship service.
URL:https://forestview.church/event/sunday-service-20261108/
LOCATION:ForestView Church @ Brabham Middle School\, 10000 FM830\, Willis\, TX\, 77318\, United States
CATEGORIES:Worship
END:VEVENT
BEGIN:VEVENT
DTSTART;TZID=America/Chicago:20261115T100000
DTEND;TZID=America/Chicago:20261115T110000
DTSTAMP:20260423T190726
CREATED:20250619T090317Z
LAST-MODIFIED:20250729T163617Z
UID:1146-1794736800-1794740400@forestview.church
SUMMARY:Sunday Service
DESCRIPTION:You’re invited to join us for our regular Sunday worship service.
URL:https://forestview.church/event/sunday-service-20261115/
LOCATION:ForestView Church @ Brabham Middle School\, 10000 FM830\, Willis\, TX\, 77318\, United States
CATEGORIES:Worship
END:VEVENT
BEGIN:VEVENT
DTSTART;TZID=America/Chicago:20261122T100000
DTEND;TZID=America/Chicago:20261122T110000
DTSTAMP:20260423T190726
CREATED:20250619T090317Z
LAST-MODIFIED:20250729T163617Z
UID:1147-1795341600-1795345200@forestview.church
SUMMARY:Sunday Service
DESCRIPTION:You’re invited to join us for our regular Sunday worship service.
URL:https://forestview.church/event/sunday-service-20261122/
LOCATION:ForestView Church @ Brabham Middle School\, 10000 FM830\, Willis\, TX\, 77318\, United States
CATEGORIES:Worship
END:VEVENT
BEGIN:VEVENT
DTSTART;TZID=America/Chicago:20261129T100000
DTEND;TZID=America/Chicago:20261129T110000
DTSTAMP:20260423T190726
CREATED:20250619T090317Z
LAST-MODIFIED:20250729T163617Z
UID:1148-1795946400-1795950000@forestview.church
SUMMARY:Sunday Service
DESCRIPTION:You’re invited to join us for our regular Sunday worship service.
URL:https://forestview.church/event/sunday-service-20261129/
LOCATION:ForestView Church @ Brabham Middle School\, 10000 FM830\, Willis\, TX\, 77318\, United States
CATEGORIES:Worship
END:VEVENT
END:VCALENDAR