BEGIN:VCALENDAR
VERSION:2.0
PRODID:-//ForestView Church - ECPv6.15.20//NONSGML v1.0//EN
CALSCALE:GREGORIAN
METHOD:PUBLISH
X-WR-CALNAME:ForestView Church
X-ORIGINAL-URL:https://forestview.church
X-WR-CALDESC:Events for ForestView Church
REFRESH-INTERVAL;VALUE=DURATION:PT1H
X-Robots-Tag:noindex
X-PUBLISHED-TTL:PT1H
BEGIN:VTIMEZONE
TZID:America/Chicago
BEGIN:DAYLIGHT
TZOFFSETFROM:-0600
TZOFFSETTO:-0500
TZNAME:CDT
DTSTART:20250309T080000
END:DAYLIGHT
BEGIN:STANDARD
TZOFFSETFROM:-0500
TZOFFSETTO:-0600
TZNAME:CST
DTSTART:20251102T070000
END:STANDARD
BEGIN:DAYLIGHT
TZOFFSETFROM:-0600
TZOFFSETTO:-0500
TZNAME:CDT
DTSTART:20260308T080000
END:DAYLIGHT
BEGIN:STANDARD
TZOFFSETFROM:-0500
TZOFFSETTO:-0600
TZNAME:CST
DTSTART:20261101T070000
END:STANDARD
BEGIN:DAYLIGHT
TZOFFSETFROM:-0600
TZOFFSETTO:-0500
TZNAME:CDT
DTSTART:20270314T080000
END:DAYLIGHT
BEGIN:STANDARD
TZOFFSETFROM:-0500
TZOFFSETTO:-0600
TZNAME:CST
DTSTART:20271107T070000
END:STANDARD
END:VTIMEZONE
BEGIN:VEVENT
DTSTART;TZID=America/Chicago:20260503T100000
DTEND;TZID=America/Chicago:20260503T110000
DTSTAMP:20260423T105422
CREATED:20250619T090147Z
LAST-MODIFIED:20250729T163710Z
UID:1118-1777802400-1777806000@forestview.church
SUMMARY:Sunday Service
DESCRIPTION:You’re invited to join us for our regular Sunday worship service.
URL:https://forestview.church/event/sunday-service-20260503/
LOCATION:ForestView Church @ Brabham Middle School\, 10000 FM830\, Willis\, TX\, 77318\, United States
CATEGORIES:Worship
END:VEVENT
BEGIN:VEVENT
DTSTART;TZID=America/Chicago:20260510T100000
DTEND;TZID=America/Chicago:20260510T110000
DTSTAMP:20260423T105422
CREATED:20250619T090147Z
LAST-MODIFIED:20250729T163709Z
UID:1119-1778407200-1778410800@forestview.church
SUMMARY:Sunday Service
DESCRIPTION:You’re invited to join us for our regular Sunday worship service.
URL:https://forestview.church/event/sunday-service-20260510/
LOCATION:ForestView Church @ Brabham Middle School\, 10000 FM830\, Willis\, TX\, 77318\, United States
CATEGORIES:Worship
END:VEVENT
BEGIN:VEVENT
DTSTART;TZID=America/Chicago:20260517T100000
DTEND;TZID=America/Chicago:20260517T110000
DTSTAMP:20260423T105422
CREATED:20250619T090202Z
LAST-MODIFIED:20250729T163709Z
UID:1120-1779012000-1779015600@forestview.church
SUMMARY:Sunday Service
DESCRIPTION:You’re invited to join us for our regular Sunday worship service.
URL:https://forestview.church/event/sunday-service-20260517/
LOCATION:ForestView Church @ Brabham Middle School\, 10000 FM830\, Willis\, TX\, 77318\, United States
CATEGORIES:Worship
END:VEVENT
BEGIN:VEVENT
DTSTART;TZID=America/Chicago:20260524T100000
DTEND;TZID=America/Chicago:20260524T110000
DTSTAMP:20260423T105422
CREATED:20250619T090202Z
LAST-MODIFIED:20250729T163709Z
UID:1121-1779616800-1779620400@forestview.church
SUMMARY:Sunday Service
DESCRIPTION:You’re invited to join us for our regular Sunday worship service.
URL:https://forestview.church/event/sunday-service-20260524/
LOCATION:ForestView Church @ Brabham Middle School\, 10000 FM830\, Willis\, TX\, 77318\, United States
CATEGORIES:Worship
END:VEVENT
BEGIN:VEVENT
DTSTART;TZID=America/Chicago:20260531T100000
DTEND;TZID=America/Chicago:20260531T110000
DTSTAMP:20260423T105422
CREATED:20250619T090202Z
LAST-MODIFIED:20250729T163709Z
UID:1122-1780221600-1780225200@forestview.church
SUMMARY:Sunday Service
DESCRIPTION:You’re invited to join us for our regular Sunday worship service.
URL:https://forestview.church/event/sunday-service-20260531/
LOCATION:ForestView Church @ Brabham Middle School\, 10000 FM830\, Willis\, TX\, 77318\, United States
CATEGORIES:Worship
END:VEVENT
END:VCALENDAR