BEGIN:VCALENDAR
VERSION:2.0
PRODID:-//ForestView Church - ECPv6.15.20//NONSGML v1.0//EN
CALSCALE:GREGORIAN
METHOD:PUBLISH
X-WR-CALNAME:ForestView Church
X-ORIGINAL-URL:https://forestview.church
X-WR-CALDESC:Events for ForestView Church
REFRESH-INTERVAL;VALUE=DURATION:PT1H
X-Robots-Tag:noindex
X-PUBLISHED-TTL:PT1H
BEGIN:VTIMEZONE
TZID:America/Chicago
BEGIN:DAYLIGHT
TZOFFSETFROM:-0600
TZOFFSETTO:-0500
TZNAME:CDT
DTSTART:20250309T080000
END:DAYLIGHT
BEGIN:STANDARD
TZOFFSETFROM:-0500
TZOFFSETTO:-0600
TZNAME:CST
DTSTART:20251102T070000
END:STANDARD
BEGIN:DAYLIGHT
TZOFFSETFROM:-0600
TZOFFSETTO:-0500
TZNAME:CDT
DTSTART:20260308T080000
END:DAYLIGHT
BEGIN:STANDARD
TZOFFSETFROM:-0500
TZOFFSETTO:-0600
TZNAME:CST
DTSTART:20261101T070000
END:STANDARD
BEGIN:DAYLIGHT
TZOFFSETFROM:-0600
TZOFFSETTO:-0500
TZNAME:CDT
DTSTART:20270314T080000
END:DAYLIGHT
BEGIN:STANDARD
TZOFFSETFROM:-0500
TZOFFSETTO:-0600
TZNAME:CST
DTSTART:20271107T070000
END:STANDARD
END:VTIMEZONE
BEGIN:VEVENT
DTSTART;TZID=America/Chicago:20261105T190000
DTEND;TZID=America/Chicago:20261105T200000
DTSTAMP:20260423T190608
CREATED:20250722T082808Z
LAST-MODIFIED:20250729T164058Z
UID:1853-1793905200-1793908800@forestview.church
SUMMARY:Home Group @ Canterbury's
DESCRIPTION:Home Group meeting at the Canterbury household
URL:https://forestview.church/event/home-group-canterburys-20261105/
LOCATION:Home Group @ Canterbury’s
CATEGORIES:Home Group
END:VEVENT
BEGIN:VEVENT
DTSTART;TZID=America/Chicago:20261112T190000
DTEND;TZID=America/Chicago:20261112T200000
DTSTAMP:20260423T190608
CREATED:20250722T082808Z
LAST-MODIFIED:20250729T164058Z
UID:1854-1794510000-1794513600@forestview.church
SUMMARY:Home Group @ Canterbury's
DESCRIPTION:Home Group meeting at the Canterbury household
URL:https://forestview.church/event/home-group-canterburys-20261112/
LOCATION:Home Group @ Canterbury’s
CATEGORIES:Home Group
END:VEVENT
BEGIN:VEVENT
DTSTART;TZID=America/Chicago:20261112T190000
DTEND;TZID=America/Chicago:20261112T200000
DTSTAMP:20260423T190608
CREATED:20250722T084113Z
LAST-MODIFIED:20250729T163931Z
UID:1958-1794510000-1794513600@forestview.church
SUMMARY:Home Group @ Brasher's
DESCRIPTION:Home Group meeting at the Brasher household
URL:https://forestview.church/event/home-group-brashers-20261112/
LOCATION:Home Group @ Brasher’s
CATEGORIES:Home Group
END:VEVENT
BEGIN:VEVENT
DTSTART;TZID=America/Chicago:20261119T190000
DTEND;TZID=America/Chicago:20261119T200000
DTSTAMP:20260423T190608
CREATED:20250722T082823Z
LAST-MODIFIED:20250729T164058Z
UID:1855-1795114800-1795118400@forestview.church
SUMMARY:Home Group @ Canterbury's
DESCRIPTION:Home Group meeting at the Canterbury household
URL:https://forestview.church/event/home-group-canterburys-20261119/
LOCATION:Home Group @ Canterbury’s
CATEGORIES:Home Group
END:VEVENT
BEGIN:VEVENT
DTSTART;TZID=America/Chicago:20261119T190000
DTEND;TZID=America/Chicago:20261119T200000
DTSTAMP:20260423T190608
CREATED:20250722T084113Z
LAST-MODIFIED:20250729T163931Z
UID:1959-1795114800-1795118400@forestview.church
SUMMARY:Home Group @ Brasher's
DESCRIPTION:Home Group meeting at the Brasher household
URL:https://forestview.church/event/home-group-brashers-20261119/
LOCATION:Home Group @ Brasher’s
CATEGORIES:Home Group
END:VEVENT
BEGIN:VEVENT
DTSTART;TZID=America/Chicago:20261126T190000
DTEND;TZID=America/Chicago:20261126T200000
DTSTAMP:20260423T190608
CREATED:20250722T084128Z
LAST-MODIFIED:20250729T163930Z
UID:1960-1795719600-1795723200@forestview.church
SUMMARY:Home Group @ Brasher's
DESCRIPTION:Home Group meeting at the Brasher household
URL:https://forestview.church/event/home-group-brashers-20261126/
LOCATION:Home Group @ Brasher’s
CATEGORIES:Home Group
END:VEVENT
END:VCALENDAR