BEGIN:VCALENDAR
VERSION:2.0
PRODID:-//ForestView Church - ECPv6.15.20//NONSGML v1.0//EN
CALSCALE:GREGORIAN
METHOD:PUBLISH
X-WR-CALNAME:ForestView Church
X-ORIGINAL-URL:https://forestview.church
X-WR-CALDESC:Events for ForestView Church
REFRESH-INTERVAL;VALUE=DURATION:PT1H
X-Robots-Tag:noindex
X-PUBLISHED-TTL:PT1H
BEGIN:VTIMEZONE
TZID:America/Chicago
BEGIN:DAYLIGHT
TZOFFSETFROM:-0600
TZOFFSETTO:-0500
TZNAME:CDT
DTSTART:20250309T080000
END:DAYLIGHT
BEGIN:STANDARD
TZOFFSETFROM:-0500
TZOFFSETTO:-0600
TZNAME:CST
DTSTART:20251102T070000
END:STANDARD
BEGIN:DAYLIGHT
TZOFFSETFROM:-0600
TZOFFSETTO:-0500
TZNAME:CDT
DTSTART:20260308T080000
END:DAYLIGHT
BEGIN:STANDARD
TZOFFSETFROM:-0500
TZOFFSETTO:-0600
TZNAME:CST
DTSTART:20261101T070000
END:STANDARD
BEGIN:DAYLIGHT
TZOFFSETFROM:-0600
TZOFFSETTO:-0500
TZNAME:CDT
DTSTART:20270314T080000
END:DAYLIGHT
BEGIN:STANDARD
TZOFFSETFROM:-0500
TZOFFSETTO:-0600
TZNAME:CST
DTSTART:20271107T070000
END:STANDARD
END:VTIMEZONE
BEGIN:VEVENT
DTSTART;TZID=America/Chicago:20261001T190000
DTEND;TZID=America/Chicago:20261001T200000
DTSTAMP:20260423T174327
CREATED:20250722T082808Z
LAST-MODIFIED:20250729T164134Z
UID:1850-1790881200-1790884800@forestview.church
SUMMARY:Home Group @ Canterbury's
DESCRIPTION:Home Group meeting at the Canterbury household
URL:https://forestview.church/event/home-group-canterburys-20261001/
LOCATION:Home Group @ Canterbury’s
CATEGORIES:Home Group
END:VEVENT
BEGIN:VEVENT
DTSTART;TZID=America/Chicago:20261008T190000
DTEND;TZID=America/Chicago:20261008T200000
DTSTAMP:20260423T174327
CREATED:20250722T082808Z
LAST-MODIFIED:20250729T164134Z
UID:1851-1791486000-1791489600@forestview.church
SUMMARY:Home Group @ Canterbury's
DESCRIPTION:Home Group meeting at the Canterbury household
URL:https://forestview.church/event/home-group-canterburys-20261008/
LOCATION:Home Group @ Canterbury’s
CATEGORIES:Home Group
END:VEVENT
BEGIN:VEVENT
DTSTART;TZID=America/Chicago:20261008T190000
DTEND;TZID=America/Chicago:20261008T200000
DTSTAMP:20260423T174327
CREATED:20250722T084113Z
LAST-MODIFIED:20250729T163932Z
UID:1955-1791486000-1791489600@forestview.church
SUMMARY:Home Group @ Brasher's
DESCRIPTION:Home Group meeting at the Brasher household
URL:https://forestview.church/event/home-group-brashers-20261008/
LOCATION:Home Group @ Brasher’s
CATEGORIES:Home Group
END:VEVENT
BEGIN:VEVENT
DTSTART;TZID=America/Chicago:20261015T190000
DTEND;TZID=America/Chicago:20261015T200000
DTSTAMP:20260423T174327
CREATED:20250722T082808Z
LAST-MODIFIED:20250729T164134Z
UID:1852-1792090800-1792094400@forestview.church
SUMMARY:Home Group @ Canterbury's
DESCRIPTION:Home Group meeting at the Canterbury household
URL:https://forestview.church/event/home-group-canterburys-20261015/
LOCATION:Home Group @ Canterbury’s
CATEGORIES:Home Group
END:VEVENT
BEGIN:VEVENT
DTSTART;TZID=America/Chicago:20261015T190000
DTEND;TZID=America/Chicago:20261015T200000
DTSTAMP:20260423T174327
CREATED:20250722T084113Z
LAST-MODIFIED:20250729T163932Z
UID:1956-1792090800-1792094400@forestview.church
SUMMARY:Home Group @ Brasher's
DESCRIPTION:Home Group meeting at the Brasher household
URL:https://forestview.church/event/home-group-brashers-20261015/
LOCATION:Home Group @ Brasher’s
CATEGORIES:Home Group
END:VEVENT
BEGIN:VEVENT
DTSTART;TZID=America/Chicago:20261022T190000
DTEND;TZID=America/Chicago:20261022T200000
DTSTAMP:20260423T174327
CREATED:20250722T084113Z
LAST-MODIFIED:20250729T163931Z
UID:1957-1792695600-1792699200@forestview.church
SUMMARY:Home Group @ Brasher's
DESCRIPTION:Home Group meeting at the Brasher household
URL:https://forestview.church/event/home-group-brashers-20261022/
LOCATION:Home Group @ Brasher’s
CATEGORIES:Home Group
END:VEVENT
END:VCALENDAR