BEGIN:VCALENDAR
VERSION:2.0
PRODID:-//ForestView Church - ECPv6.15.20//NONSGML v1.0//EN
CALSCALE:GREGORIAN
METHOD:PUBLISH
X-ORIGINAL-URL:https://forestview.church
X-WR-CALDESC:Events for ForestView Church
REFRESH-INTERVAL;VALUE=DURATION:PT1H
X-Robots-Tag:noindex
X-PUBLISHED-TTL:PT1H
BEGIN:VTIMEZONE
TZID:America/Chicago
BEGIN:DAYLIGHT
TZOFFSETFROM:-0600
TZOFFSETTO:-0500
TZNAME:CDT
DTSTART:20250309T080000
END:DAYLIGHT
BEGIN:STANDARD
TZOFFSETFROM:-0500
TZOFFSETTO:-0600
TZNAME:CST
DTSTART:20251102T070000
END:STANDARD
BEGIN:DAYLIGHT
TZOFFSETFROM:-0600
TZOFFSETTO:-0500
TZNAME:CDT
DTSTART:20260308T080000
END:DAYLIGHT
BEGIN:STANDARD
TZOFFSETFROM:-0500
TZOFFSETTO:-0600
TZNAME:CST
DTSTART:20261101T070000
END:STANDARD
BEGIN:DAYLIGHT
TZOFFSETFROM:-0600
TZOFFSETTO:-0500
TZNAME:CDT
DTSTART:20270314T080000
END:DAYLIGHT
BEGIN:STANDARD
TZOFFSETFROM:-0500
TZOFFSETTO:-0600
TZNAME:CST
DTSTART:20271107T070000
END:STANDARD
END:VTIMEZONE
BEGIN:VEVENT
DTSTART;TZID=America/Chicago:20260702T190000
DTEND;TZID=America/Chicago:20260702T200000
DTSTAMP:20260423T133817
CREATED:20250722T082738Z
LAST-MODIFIED:20250729T164136Z
UID:1841-1783018800-1783022400@forestview.church
SUMMARY:Home Group @ Canterbury's
DESCRIPTION:Home Group meeting at the Canterbury household
URL:https://forestview.church/event/home-group-canterburys-20260702/
LOCATION:Home Group @ Canterbury’s
CATEGORIES:Home Group
END:VEVENT
BEGIN:VEVENT
DTSTART;TZID=America/Chicago:20260709T190000
DTEND;TZID=America/Chicago:20260709T200000
DTSTAMP:20260423T133817
CREATED:20250722T082738Z
LAST-MODIFIED:20250729T164136Z
UID:1842-1783623600-1783627200@forestview.church
SUMMARY:Home Group @ Canterbury's
DESCRIPTION:Home Group meeting at the Canterbury household
URL:https://forestview.church/event/home-group-canterburys-20260709/
LOCATION:Home Group @ Canterbury’s
CATEGORIES:Home Group
END:VEVENT
BEGIN:VEVENT
DTSTART;TZID=America/Chicago:20260709T190000
DTEND;TZID=America/Chicago:20260709T200000
DTSTAMP:20260423T133817
CREATED:20250722T084043Z
LAST-MODIFIED:20250729T163934Z
UID:1946-1783623600-1783627200@forestview.church
SUMMARY:Home Group @ Brasher's
DESCRIPTION:Home Group meeting at the Brasher household
URL:https://forestview.church/event/home-group-brashers-20260709/
LOCATION:Home Group @ Brasher’s
CATEGORIES:Home Group
END:VEVENT
BEGIN:VEVENT
DTSTART;TZID=America/Chicago:20260716T190000
DTEND;TZID=America/Chicago:20260716T200000
DTSTAMP:20260423T133817
CREATED:20250722T082738Z
LAST-MODIFIED:20250729T164136Z
UID:1843-1784228400-1784232000@forestview.church
SUMMARY:Home Group @ Canterbury's
DESCRIPTION:Home Group meeting at the Canterbury household
URL:https://forestview.church/event/home-group-canterburys-20260716/
LOCATION:Home Group @ Canterbury’s
CATEGORIES:Home Group
END:VEVENT
BEGIN:VEVENT
DTSTART;TZID=America/Chicago:20260716T190000
DTEND;TZID=America/Chicago:20260716T200000
DTSTAMP:20260423T133817
CREATED:20250722T084043Z
LAST-MODIFIED:20250729T163934Z
UID:1947-1784228400-1784232000@forestview.church
SUMMARY:Home Group @ Brasher's
DESCRIPTION:Home Group meeting at the Brasher household
URL:https://forestview.church/event/home-group-brashers-20260716/
LOCATION:Home Group @ Brasher’s
CATEGORIES:Home Group
END:VEVENT
BEGIN:VEVENT
DTSTART;TZID=America/Chicago:20260723T190000
DTEND;TZID=America/Chicago:20260723T200000
DTSTAMP:20260423T133817
CREATED:20250722T084043Z
LAST-MODIFIED:20250729T163934Z
UID:1948-1784833200-1784836800@forestview.church
SUMMARY:Home Group @ Brasher's
DESCRIPTION:Home Group meeting at the Brasher household
URL:https://forestview.church/event/home-group-brashers-20260723/
LOCATION:Home Group @ Brasher’s
CATEGORIES:Home Group
END:VEVENT
END:VCALENDAR