BEGIN:VCALENDAR
VERSION:2.0
PRODID:-//ForestView Church - ECPv6.15.20//NONSGML v1.0//EN
CALSCALE:GREGORIAN
METHOD:PUBLISH
X-WR-CALNAME:ForestView Church
X-ORIGINAL-URL:https://forestview.church
X-WR-CALDESC:Events for ForestView Church
REFRESH-INTERVAL;VALUE=DURATION:PT1H
X-Robots-Tag:noindex
X-PUBLISHED-TTL:PT1H
BEGIN:VTIMEZONE
TZID:America/Chicago
BEGIN:DAYLIGHT
TZOFFSETFROM:-0600
TZOFFSETTO:-0500
TZNAME:CDT
DTSTART:20250309T080000
END:DAYLIGHT
BEGIN:STANDARD
TZOFFSETFROM:-0500
TZOFFSETTO:-0600
TZNAME:CST
DTSTART:20251102T070000
END:STANDARD
BEGIN:DAYLIGHT
TZOFFSETFROM:-0600
TZOFFSETTO:-0500
TZNAME:CDT
DTSTART:20260308T080000
END:DAYLIGHT
BEGIN:STANDARD
TZOFFSETFROM:-0500
TZOFFSETTO:-0600
TZNAME:CST
DTSTART:20261101T070000
END:STANDARD
BEGIN:DAYLIGHT
TZOFFSETFROM:-0600
TZOFFSETTO:-0500
TZNAME:CDT
DTSTART:20270314T080000
END:DAYLIGHT
BEGIN:STANDARD
TZOFFSETFROM:-0500
TZOFFSETTO:-0600
TZNAME:CST
DTSTART:20271107T070000
END:STANDARD
END:VTIMEZONE
BEGIN:VEVENT
DTSTART;TZID=America/Chicago:20260603T190000
DTEND;TZID=America/Chicago:20260603T200000
DTSTAMP:20260423T121503
CREATED:20260123T194145Z
LAST-MODIFIED:20260123T194145Z
UID:3823-1780513200-1780516800@forestview.church
SUMMARY:Home Group @ Major's
DESCRIPTION:Home Group meeting at the Major’s household
URL:https://forestview.church/event/home-group-majors-20260603/
LOCATION:Home Group @ Major’s
CATEGORIES:Home Group
END:VEVENT
BEGIN:VEVENT
DTSTART;TZID=America/Chicago:20260604T190000
DTEND;TZID=America/Chicago:20260604T200000
DTSTAMP:20260423T121503
CREATED:20250722T082723Z
LAST-MODIFIED:20250729T164137Z
UID:1838-1780599600-1780603200@forestview.church
SUMMARY:Home Group @ Canterbury's
DESCRIPTION:Home Group meeting at the Canterbury household
URL:https://forestview.church/event/home-group-canterburys-20260604/
LOCATION:Home Group @ Canterbury’s
CATEGORIES:Home Group
END:VEVENT
BEGIN:VEVENT
DTSTART;TZID=America/Chicago:20260610T190000
DTEND;TZID=America/Chicago:20260610T200000
DTSTAMP:20260423T121503
CREATED:20260123T194748Z
LAST-MODIFIED:20260123T194748Z
UID:3832-1781118000-1781121600@forestview.church
SUMMARY:Home Group @ Major's
DESCRIPTION:Home Group meeting at the Major’s household
URL:https://forestview.church/event/home-group-majors-20260610/
LOCATION:Home Group @ Major’s
CATEGORIES:Home Group
END:VEVENT
BEGIN:VEVENT
DTSTART;TZID=America/Chicago:20260611T190000
DTEND;TZID=America/Chicago:20260611T200000
DTSTAMP:20260423T121503
CREATED:20250722T082723Z
LAST-MODIFIED:20250729T164137Z
UID:1839-1781204400-1781208000@forestview.church
SUMMARY:Home Group @ Canterbury's
DESCRIPTION:Home Group meeting at the Canterbury household
URL:https://forestview.church/event/home-group-canterburys-20260611/
LOCATION:Home Group @ Canterbury’s
CATEGORIES:Home Group
END:VEVENT
BEGIN:VEVENT
DTSTART;TZID=America/Chicago:20260611T190000
DTEND;TZID=America/Chicago:20260611T200000
DTSTAMP:20260423T121503
CREATED:20250722T084028Z
LAST-MODIFIED:20250729T164011Z
UID:1943-1781204400-1781208000@forestview.church
SUMMARY:Home Group @ Brasher's
DESCRIPTION:Home Group meeting at the Brasher household
URL:https://forestview.church/event/home-group-brashers-20260611/
LOCATION:Home Group @ Brasher’s
CATEGORIES:Home Group
END:VEVENT
BEGIN:VEVENT
DTSTART;TZID=America/Chicago:20260617T190000
DTEND;TZID=America/Chicago:20260617T200000
DTSTAMP:20260423T121503
CREATED:20260123T195158Z
LAST-MODIFIED:20260123T195158Z
UID:3840-1781722800-1781726400@forestview.church
SUMMARY:Home Group @ Major's
DESCRIPTION:Home Group meeting at the Major’s household
URL:https://forestview.church/event/home-group-majors-20260617/
LOCATION:Home Group @ Major’s
CATEGORIES:Home Group
END:VEVENT
BEGIN:VEVENT
DTSTART;TZID=America/Chicago:20260618T190000
DTEND;TZID=America/Chicago:20260618T200000
DTSTAMP:20260423T121503
CREATED:20250722T082738Z
LAST-MODIFIED:20250729T164137Z
UID:1840-1781809200-1781812800@forestview.church
SUMMARY:Home Group @ Canterbury's
DESCRIPTION:Home Group meeting at the Canterbury household
URL:https://forestview.church/event/home-group-canterburys-20260618/
LOCATION:Home Group @ Canterbury’s
CATEGORIES:Home Group
END:VEVENT
BEGIN:VEVENT
DTSTART;TZID=America/Chicago:20260618T190000
DTEND;TZID=America/Chicago:20260618T200000
DTSTAMP:20260423T121503
CREATED:20250722T084028Z
LAST-MODIFIED:20250729T163935Z
UID:1944-1781809200-1781812800@forestview.church
SUMMARY:Home Group @ Brasher's
DESCRIPTION:Home Group meeting at the Brasher household
URL:https://forestview.church/event/home-group-brashers-20260618/
LOCATION:Home Group @ Brasher’s
CATEGORIES:Home Group
END:VEVENT
BEGIN:VEVENT
DTSTART;TZID=America/Chicago:20260625T190000
DTEND;TZID=America/Chicago:20260625T200000
DTSTAMP:20260423T121503
CREATED:20250722T084043Z
LAST-MODIFIED:20250729T163934Z
UID:1945-1782414000-1782417600@forestview.church
SUMMARY:Home Group @ Brasher's
DESCRIPTION:Home Group meeting at the Brasher household
URL:https://forestview.church/event/home-group-brashers-20260625/
LOCATION:Home Group @ Brasher’s
CATEGORIES:Home Group
END:VEVENT
END:VCALENDAR