BEGIN:VCALENDAR
VERSION:2.0
PRODID:-//ForestView Church - ECPv6.15.20//NONSGML v1.0//EN
CALSCALE:GREGORIAN
METHOD:PUBLISH
X-WR-CALNAME:ForestView Church
X-ORIGINAL-URL:https://forestview.church
X-WR-CALDESC:Events for ForestView Church
REFRESH-INTERVAL;VALUE=DURATION:PT1H
X-Robots-Tag:noindex
X-PUBLISHED-TTL:PT1H
BEGIN:VTIMEZONE
TZID:America/Chicago
BEGIN:DAYLIGHT
TZOFFSETFROM:-0600
TZOFFSETTO:-0500
TZNAME:CDT
DTSTART:20250309T080000
END:DAYLIGHT
BEGIN:STANDARD
TZOFFSETFROM:-0500
TZOFFSETTO:-0600
TZNAME:CST
DTSTART:20251102T070000
END:STANDARD
BEGIN:DAYLIGHT
TZOFFSETFROM:-0600
TZOFFSETTO:-0500
TZNAME:CDT
DTSTART:20260308T080000
END:DAYLIGHT
BEGIN:STANDARD
TZOFFSETFROM:-0500
TZOFFSETTO:-0600
TZNAME:CST
DTSTART:20261101T070000
END:STANDARD
BEGIN:DAYLIGHT
TZOFFSETFROM:-0600
TZOFFSETTO:-0500
TZNAME:CDT
DTSTART:20270314T080000
END:DAYLIGHT
BEGIN:STANDARD
TZOFFSETFROM:-0500
TZOFFSETTO:-0600
TZNAME:CST
DTSTART:20271107T070000
END:STANDARD
END:VTIMEZONE
BEGIN:VEVENT
DTSTART;TZID=America/Chicago:20260423T190000
DTEND;TZID=America/Chicago:20260423T200000
DTSTAMP:20260423T065852
CREATED:20250722T084013Z
LAST-MODIFIED:20250729T164012Z
UID:1939-1776970800-1776974400@forestview.church
SUMMARY:Home Group @ Brasher's
DESCRIPTION:Home Group meeting at the Brasher household
URL:https://forestview.church/event/home-group-brashers-20260423/
LOCATION:Home Group @ Brasher’s
CATEGORIES:Home Group
END:VEVENT
BEGIN:VEVENT
DTSTART;TZID=America/Chicago:20260426T100000
DTEND;TZID=America/Chicago:20260426T110000
DTSTAMP:20260423T065852
CREATED:20250619T090147Z
LAST-MODIFIED:20250729T163710Z
UID:1117-1777197600-1777201200@forestview.church
SUMMARY:Sunday Service
DESCRIPTION:You’re invited to join us for our regular Sunday worship service.
URL:https://forestview.church/event/sunday-service-20260426/
LOCATION:ForestView Church @ Brabham Middle School\, 10000 FM830\, Willis\, TX\, 77318\, United States
CATEGORIES:Worship
END:VEVENT
END:VCALENDAR